View In:
ArcGIS JavaScript
ArcGIS Online Map Viewer
ArcGIS Earth
ArcMap
View Footprint In:
ArcGIS Online Map Viewer
Service Description: Stand Density Index of live and dead trees, with DBH >= 6”. Masked using the Forest Mask layer to remove non-forested areas.
Units: Unitless
Global model accuracy Pseudo-R^2=0.6546, RMSE=115.1
This model is a composite of 8 sub-models, one per FVS Variant and cover class. The Model Classes layer shows where each sub-model was used.
For more information see: https://nrsig.org/projects/washington-forest-structure
These data are research products and are likely to change. They are intended only as a research product and should not be used for other purposes.
Name: WaForestInventory/SDI_GE6_LiveOrDead_Masked
Description: Stand Density Index of live and dead trees, with DBH >= 6”. Masked using the Forest Mask layer to remove non-forested areas.
Units: Unitless
Global model accuracy Pseudo-R^2=0.6546, RMSE=115.1
This model is a composite of 8 sub-models, one per FVS Variant and cover class. The Model Classes layer shows where each sub-model was used.
For more information see: https://nrsig.org/projects/washington-forest-structure
These data are research products and are likely to change. They are intended only as a research product and should not be used for other purposes.
Single Fused Map Cache: false
Extent:
XMin: 602481.0001220703
YMin: 81807.00012207055
XMax: 2551197.0001220703
YMax: 1355607.0001220705
Spatial Reference: 2927
(2927)
Initial Extent:
XMin: 602481.0001220703
YMin: 81807.00012207055
XMax: 2551197.0001220703
YMax: 1355607.0001220705
Spatial Reference: 2927
(2927)
Full Extent:
XMin: 602481.0001220703
YMin: 81807.00012207055
XMax: 2551197.0001220703
YMax: 1355607.0001220705
Spatial Reference: 2927
(2927)
Pixel Size X: 66.0
Pixel Size Y: 66.0
Band Count: 1
Pixel Type: F32
RasterFunction Infos: {"rasterFunctionInfos": [{
"name": "None",
"description": "",
"help": ""
}]}
Mensuration Capabilities: Basic
Has Histograms: true
Has Colormap: false
Has Multi Dimensions : false
Rendering Rule:
Min Scale: 0
Max Scale: 0
Copyright Text: This model was produced by the Natural Resource Spatial Informatics Group (https://nrsig.org), as part of a Washington Department of Natural Resources funded research project.
Copyright (c) 2021 University of Washington.
Service Data Type: esriImageServiceDataTypeGeneric
Min Values: 0
Max Values: 2289.716796875
Mean Values: 245.8074850570156
Standard Deviation Values: 162.43385302997538
Object ID Field:
Fields:
None
Default Mosaic Method: Center
Allowed Mosaic Methods:
SortField:
SortValue: null
Mosaic Operator: First
Default Compression Quality: 75
Default Resampling Method: Bilinear
Max Record Count: null
Max Image Height: 4100
Max Image Width: 15000
Max Download Image Count: null
Max Mosaic Image Count: null
Allow Raster Function: true
Allow Copy: true
Allow Analysis: true
Allow Compute TiePoints: false
Supports Statistics: false
Supports Advanced Queries: false
Use StandardizedQueries: true
Raster Type Infos:
Name: Raster Dataset
Description: Supports all ArcGIS Raster Datasets
Help:
Has Raster Attribute Table: false
Edit Fields Info: null
Ownership Based AccessControl For Rasters: null
Child Resources:
Info
Histograms
Statistics
Key Properties
Legend
Raster Function Infos
Supported Operations:
Export Image
Identify
Measure
Compute Histograms
Compute Statistics Histograms
Get Samples
Compute Class Statistics
Query Boundary
Compute Pixel Location
Compute Angles
Validate
Project