View In:
ArcGIS JavaScript
ArcGIS Online Map Viewer
ArcGIS Earth
ArcMap
View Footprint In:
ArcGIS Online Map Viewer
Service Description: The inventory models for this project were made by combining 8 separate sub-models, based on FVS Variant and canopy cover. Each sub-model has its own parameters and coefficients.
Class, FVS Variant, Canopy Cover
11, PN+AK, LT95%
12, PN+AK, GE95%
21, WC, LT95%
22, WC, GE95%
31, EC, LT95%
32, EC, GE95%
41, IE+BM, LT95%
42, IE+BM, GE95%
For more information see: https://nrsig.org/projects/washington-forest-structureThese data are research products and are likely to change. They are intended only as a research product and should not be used for other purposes.
Name: WaForestInventory/Model_Classes
Description: The inventory models for this project were made by combining 8 separate sub-models, based on FVS Variant and canopy cover. Each sub-model has its own parameters and coefficients.
Class, FVS Variant, Canopy Cover
11, PN+AK, LT95%
12, PN+AK, GE95%
21, WC, LT95%
22, WC, GE95%
31, EC, LT95%
32, EC, GE95%
41, IE+BM, LT95%
42, IE+BM, GE95%
For more information see: https://nrsig.org/projects/washington-forest-structureThese data are research products and are likely to change. They are intended only as a research product and should not be used for other purposes.
Single Fused Map Cache: false
Extent:
XMin: 594033.0001220703
YMin: 75933.00012207031
XMax: 2557533.0001220703
YMax: 1356333.0001220703
Spatial Reference: 2927
(2927)
Initial Extent:
XMin: 594033.0001220703
YMin: 75933.00012207031
XMax: 2557533.0001220703
YMax: 1356333.0001220703
Spatial Reference: 2927
(2927)
Full Extent:
XMin: 594033.0001220703
YMin: 75933.00012207031
XMax: 2557533.0001220703
YMax: 1356333.0001220703
Spatial Reference: 2927
(2927)
Pixel Size X: 66.0
Pixel Size Y: 66.0
Band Count: 1
Pixel Type: U8
RasterFunction Infos: {"rasterFunctionInfos": [
{
"name": "plot_dbo_modelClasses",
"description": "A raster function template.",
"help": ""
},
{
"name": "None",
"description": "",
"help": ""
}
]}
Mensuration Capabilities: Basic
Has Histograms: true
Has Colormap: false
Has Multi Dimensions : false
Rendering Rule:
Min Scale: 0
Max Scale: 0
Copyright Text: This model was produced by the Natural Resource Spatial Informatics Group (https://nrsig.org), as part of a Washington Department of Natural Resources funded research project.Copyright (c) 2021 University of Washington.
Service Data Type: esriImageServiceDataTypeThematic
Min Values: 11
Max Values: 42
Mean Values: 26.539790490238477
Standard Deviation Values: 9.817385075405436
Object ID Field:
Fields:
None
Default Mosaic Method: Center
Allowed Mosaic Methods:
SortField:
SortValue: null
Mosaic Operator: First
Default Compression Quality: 75
Default Resampling Method: Nearest
Max Record Count: null
Max Image Height: 4100
Max Image Width: 15000
Max Download Image Count: null
Max Mosaic Image Count: null
Allow Raster Function: true
Allow Copy: true
Allow Analysis: true
Allow Compute TiePoints: false
Supports Statistics: false
Supports Advanced Queries: false
Use StandardizedQueries: true
Raster Type Infos:
Name: Raster Dataset
Description: Supports all ArcGIS Raster Datasets
Help:
Has Raster Attribute Table: true
Edit Fields Info: null
Ownership Based AccessControl For Rasters: null
Child Resources:
Info
Raster Attribute Table
Histograms
Statistics
Key Properties
Legend
Raster Function Infos
Supported Operations:
Export Image
Identify
Measure
Compute Histograms
Compute Statistics Histograms
Get Samples
Compute Class Statistics
Query Boundary
Compute Pixel Location
Compute Angles
Validate
Project