View In:
ArcGIS JavaScript
ArcGIS Online Map Viewer
ArcGIS Earth
ArcMap
View Footprint In:
ArcGIS Online Map Viewer
Service Description: A custom statewide ground model was developed for this project. The DNR provided a LIDAR-derived ground model for much of the state. It combines vendor produced LIDAR ground models into a single raster that crosses LIDAR acquisition boundaries. In areas where the DNR ground model did not have data, alternate data sources were used. The DNR LIDAR portal has additional LIDAR ground models that were not part of the DNR’s dataset. These were added where possible, and any remaining areas without ground data were filled in using the USGS 3DEP 1/3rd Arc-Second Seamless DEM.
For more information see: https://nrsig.org/projects/washington-forest-structure
These data are research products and are likely to change. They are intended only as a research product and should not be used for other purposes.
Name: WaForestInventory/Ground_Model_Sources
Description: A custom statewide ground model was developed for this project. The DNR provided a LIDAR-derived ground model for much of the state. It combines vendor produced LIDAR ground models into a single raster that crosses LIDAR acquisition boundaries. In areas where the DNR ground model did not have data, alternate data sources were used. The DNR LIDAR portal has additional LIDAR ground models that were not part of the DNR’s dataset. These were added where possible, and any remaining areas without ground data were filled in using the USGS 3DEP 1/3rd Arc-Second Seamless DEM.
For more information see: https://nrsig.org/projects/washington-forest-structure
These data are research products and are likely to change. They are intended only as a research product and should not be used for other purposes.
Single Fused Map Cache: false
Extent:
XMin: 602540
YMin: 35941
XMax: 2602040
YMax: 1355596
Spatial Reference: 2927
(2927)
Initial Extent:
XMin: 602540
YMin: 35941
XMax: 2602040
YMax: 1355596
Spatial Reference: 2927
(2927)
Full Extent:
XMin: 602540
YMin: 35941
XMax: 2602040
YMax: 1355596
Spatial Reference: 2927
(2927)
Pixel Size X: 15.0
Pixel Size Y: 15.0
Band Count: 1
Pixel Type: U8
RasterFunction Infos: {"rasterFunctionInfos": [
{
"name": "plot_dbo_dtm20201110_sourcesClassified",
"description": "A raster function template.",
"help": ""
},
{
"name": "None",
"description": "",
"help": ""
}
]}
Mensuration Capabilities: Basic
Has Histograms: true
Has Colormap: false
Has Multi Dimensions : false
Rendering Rule:
Min Scale: 0
Max Scale: 0
Copyright Text: This model was produced by the Natural Resource Spatial Informatics Group (https://nrsig.org), as part of a Washington Department of Natural Resources funded research project.
Copyright (c) 2021 University of Washington.
Service Data Type: esriImageServiceDataTypeGeneric
Min Values: 0
Max Values: 2
Mean Values: 0.6787634760783495
Standard Deviation Values: 0.9192251468379625
Object ID Field:
Fields:
None
Default Mosaic Method: Center
Allowed Mosaic Methods:
SortField:
SortValue: null
Mosaic Operator: First
Default Compression Quality: 75
Default Resampling Method: Bilinear
Max Record Count: null
Max Image Height: 4100
Max Image Width: 15000
Max Download Image Count: null
Max Mosaic Image Count: null
Allow Raster Function: true
Allow Copy: true
Allow Analysis: true
Allow Compute TiePoints: false
Supports Statistics: false
Supports Advanced Queries: false
Use StandardizedQueries: true
Raster Type Infos:
Name: Raster Dataset
Description: Supports all ArcGIS Raster Datasets
Help:
Has Raster Attribute Table: true
Edit Fields Info: null
Ownership Based AccessControl For Rasters: null
Child Resources:
Info
Raster Attribute Table
Histograms
Statistics
Key Properties
Legend
Raster Function Infos
Supported Operations:
Export Image
Identify
Measure
Compute Histograms
Compute Statistics Histograms
Get Samples
Compute Class Statistics
Query Boundary
Compute Pixel Location
Compute Angles
Validate
Project